Package: ELMER Version: 2.30.0 Command: /home/biocbuild/R/R/bin/R CMD INSTALL ELMER StartedAt: 2025-03-31 21:08:14 -0000 (Mon, 31 Mar 2025) EndedAt: 2025-03-31 21:09:24 -0000 (Mon, 31 Mar 2025) EllapsedTime: 69.5 seconds RetCode: 0 Status: OK