Package: ELMER Version: 2.30.0 Command: /home/biocbuild/bbs-3.20-bioc/R/bin/R CMD check --install=check:ELMER.install-out.txt --library=/home/biocbuild/bbs-3.20-bioc/R/site-library --timings ELMER_2.30.0.tar.gz StartedAt: 2025-03-31 21:52:05 -0400 (Mon, 31 Mar 2025) EndedAt: 2025-03-31 22:15:44 -0400 (Mon, 31 Mar 2025) EllapsedTime: 1419.6 seconds RetCode: 0 Status: OK CheckDir: ELMER.Rcheck Warnings: 0