Package: EGSEA Version: 1.34.0 Command: /Library/Frameworks/R.framework/Resources/bin/R CMD INSTALL EGSEA StartedAt: 2025-03-31 16:26:28 -0400 (Mon, 31 Mar 2025) EndedAt: 2025-03-31 16:28:17 -0400 (Mon, 31 Mar 2025) EllapsedTime: 109.4 seconds RetCode: 0 Status: OK