Package: EGAD Version: 1.34.0 Command: /home/biocbuild/R/R/bin/R CMD build --keep-empty-dirs --no-resave-data EGAD StartedAt: 2025-03-31 23:14:26 -0000 (Mon, 31 Mar 2025) EndedAt: 2025-03-31 23:14:29 -0000 (Mon, 31 Mar 2025) EllapsedTime: 3.0 seconds RetCode: 0 Status: OK PackageFile: EGAD_1.34.0.tar.gz PackageFileSize: 14.57 MiB