Package: EGAD Version: 1.34.0 Command: /home/biocbuild/bbs-3.20-bioc/R/bin/R CMD INSTALL EGAD StartedAt: 2025-03-31 15:43:09 -0400 (Mon, 31 Mar 2025) EndedAt: 2025-03-31 15:43:40 -0400 (Mon, 31 Mar 2025) EllapsedTime: 31.4 seconds RetCode: 0 Status: OK