Package: EGAD Version: 1.34.0 Command: /Library/Frameworks/R.framework/Resources/bin/R CMD build --keep-empty-dirs --no-resave-data EGAD StartedAt: 2025-03-31 18:29:49 -0400 (Mon, 31 Mar 2025) EndedAt: 2025-03-31 18:29:54 -0400 (Mon, 31 Mar 2025) EllapsedTime: 5.6 seconds RetCode: 0 Status: OK PackageFile: EGAD_1.34.0.tar.gz PackageFileSize: 14.57 MiB