Package: EDIRquery Version: 1.6.0 Command: /Library/Frameworks/R.framework/Resources/bin/R CMD build --keep-empty-dirs --no-resave-data EDIRquery StartedAt: 2025-03-31 22:58:06 -0400 (Mon, 31 Mar 2025) EndedAt: 2025-03-31 22:58:53 -0400 (Mon, 31 Mar 2025) EllapsedTime: 46.8 seconds RetCode: 0 Status: OK PackageFile: EDIRquery_1.6.0.tar.gz PackageFileSize: 1.376 MiB