Package: EBcoexpress Version: 1.50.0 Command: /Library/Frameworks/R.framework/Resources/bin/R CMD build --keep-empty-dirs --no-resave-data EBcoexpress StartedAt: 2025-03-31 18:28:39 -0400 (Mon, 31 Mar 2025) EndedAt: 2025-03-31 18:29:49 -0400 (Mon, 31 Mar 2025) EllapsedTime: 69.9 seconds RetCode: 0 Status: OK PackageFile: EBcoexpress_1.50.0.tar.gz PackageFileSize: 2.666 MiB