Package: EBSeq Version: 2.4.1 Command: /Library/Frameworks/R.framework/Resources/bin/R CMD build --keep-empty-dirs --no-resave-data EBSeq StartedAt: 2025-03-31 18:28:44 -0400 (Mon, 31 Mar 2025) EndedAt: 2025-03-31 18:28:48 -0400 (Mon, 31 Mar 2025) EllapsedTime: 3.1 seconds RetCode: 0 Status: OK PackageFile: EBSeq_2.4.1.tar.gz PackageFileSize: 1.07 MiB