Package: EBSeq Version: 2.4.0 Command: rm -rf EBSeq.buildbin-libdir && mkdir EBSeq.buildbin-libdir && /Users/biocbuild/BBS/utils/build-universal.sh EBSeq_2.4.0.tar.gz /Library/Frameworks/R.framework/Resources/bin/R EBSeq.buildbin-libdir StartedAt: 2024-11-09 16:47:37 -0500 (Sat, 09 Nov 2024) EndedAt: 2024-11-09 16:47:46 -0500 (Sat, 09 Nov 2024) EllapsedTime: 9.2 seconds RetCode: 0 Status: OK PackageFile: EBSeq_2.4.0.tgz PackageFileSize: 1.172 MiB