Package: EBSEA Version: 1.34.0 Command: F:\biocbuild\bbs-3.20-bioc\R\bin\R.exe CMD INSTALL EBSEA StartedAt: 2025-03-31 15:54:24 -0400 (Mon, 31 Mar 2025) EndedAt: 2025-03-31 15:54:50 -0400 (Mon, 31 Mar 2025) EllapsedTime: 26.6 seconds RetCode: 0 Status: OK