Package: EBSEA Version: 1.34.0 Command: rm -rf EBSEA.buildbin-libdir && mkdir EBSEA.buildbin-libdir && F:\biocbuild\bbs-3.20-bioc\R\bin\R.exe CMD INSTALL --build --library=EBSEA.buildbin-libdir EBSEA_1.34.0.tar.gz StartedAt: 2025-04-01 08:07:43 -0400 (Tue, 01 Apr 2025) EndedAt: 2025-04-01 08:08:12 -0400 (Tue, 01 Apr 2025) EllapsedTime: 28.5 seconds RetCode: 0 Status: OK PackageFile: EBSEA_1.34.0.zip PackageFileSize: 55.16 KiB