Package: EBImage Version: 4.48.0 Command: /Library/Frameworks/R.framework/Resources/bin/R CMD INSTALL EBImage StartedAt: 2025-03-31 15:50:44 -0400 (Mon, 31 Mar 2025) EndedAt: 2025-03-31 15:51:15 -0400 (Mon, 31 Mar 2025) EllapsedTime: 31.0 seconds RetCode: 0 Status: OK