Package: DynDoc Version: 1.84.0 Command: rm -rf DynDoc.buildbin-libdir && mkdir DynDoc.buildbin-libdir && /Users/biocbuild/BBS/utils/build-universal.sh DynDoc_1.84.0.tar.gz /Library/Frameworks/R.framework/Resources/bin/R DynDoc.buildbin-libdir StartedAt: 2025-04-01 11:48:36 -0400 (Tue, 01 Apr 2025) EndedAt: 2025-04-01 11:48:44 -0400 (Tue, 01 Apr 2025) EllapsedTime: 7.7 seconds RetCode: 0 Status: OK PackageFile: DynDoc_1.84.0.tgz PackageFileSize: 216.1 KiB