Package: DynDoc Version: 1.84.0 Command: /Library/Frameworks/R.framework/Resources/bin/R CMD build --keep-empty-dirs --no-resave-data DynDoc StartedAt: 2025-03-31 22:51:39 -0400 (Mon, 31 Mar 2025) EndedAt: 2025-03-31 22:51:40 -0400 (Mon, 31 Mar 2025) EllapsedTime: 1.2 seconds RetCode: 0 Status: OK PackageFile: DynDoc_1.84.0.tar.gz PackageFileSize: 10.98 KiB