Package: DuplexDiscovereR Version: 1.0.0 Command: /home/biocbuild/R/R/bin/R CMD INSTALL DuplexDiscovereR StartedAt: 2025-03-31 21:07:38 -0000 (Mon, 31 Mar 2025) EndedAt: 2025-03-31 21:09:18 -0000 (Mon, 31 Mar 2025) EllapsedTime: 99.8 seconds RetCode: 0 Status: OK