Package: DuplexDiscovereR Version: 1.0.0 Command: /Library/Frameworks/R.framework/Resources/bin/R CMD check --install=check:DuplexDiscovereR.install-out.txt --library=/Library/Frameworks/R.framework/Resources/library --no-vignettes --timings DuplexDiscovereR_1.0.0.tar.gz StartedAt: 2025-04-01 17:57:00 -0400 (Tue, 01 Apr 2025) EndedAt: 2025-04-01 18:05:15 -0400 (Tue, 01 Apr 2025) EllapsedTime: 495.0 seconds RetCode: 0 Status: OK CheckDir: DuplexDiscovereR.Rcheck Warnings: 0