Package: DuplexDiscovereR Version: 1.0.0 Command: /Library/Frameworks/R.framework/Resources/bin/R CMD build --keep-empty-dirs --no-resave-data DuplexDiscovereR StartedAt: 2025-03-31 22:49:53 -0400 (Mon, 31 Mar 2025) EndedAt: 2025-03-31 22:52:27 -0400 (Mon, 31 Mar 2025) EllapsedTime: 154.3 seconds RetCode: 0 Status: OK PackageFile: DuplexDiscovereR_1.0.0.tar.gz PackageFileSize: 991 KiB