Package: DuplexDiscovereR Version: 1.0.0 Command: rm -rf DuplexDiscovereR.buildbin-libdir && mkdir DuplexDiscovereR.buildbin-libdir && /Users/biocbuild/BBS/utils/build-universal.sh DuplexDiscovereR_1.0.0.tar.gz /Library/Frameworks/R.framework/Resources/bin/R DuplexDiscovereR.buildbin-libdir StartedAt: 2025-04-02 14:10:39 -0400 (Wed, 02 Apr 2025) EndedAt: 2025-04-02 14:12:29 -0400 (Wed, 02 Apr 2025) EllapsedTime: 109.9 seconds RetCode: 0 Status: OK PackageFile: DuplexDiscovereR_1.0.0.tgz PackageFileSize: 1.533 MiB