Package: DrugVsDisease Version: 2.48.0 Command: /home/biocbuild/R/R/bin/R CMD INSTALL DrugVsDisease StartedAt: 2025-03-31 20:39:42 -0000 (Mon, 31 Mar 2025) EndedAt: 2025-03-31 20:40:27 -0000 (Mon, 31 Mar 2025) EllapsedTime: 44.2 seconds RetCode: 0 Status: OK