Package: DrugVsDisease Version: 2.48.0 Command: /Library/Frameworks/R.framework/Resources/bin/R CMD check --install=check:DrugVsDisease.install-out.txt --library=/Library/Frameworks/R.framework/Resources/library --no-vignettes --timings DrugVsDisease_2.48.0.tar.gz StartedAt: 2025-03-04 18:12:06 -0500 (Tue, 04 Mar 2025) EndedAt: 2025-03-04 18:15:19 -0500 (Tue, 04 Mar 2025) EllapsedTime: 193.1 seconds RetCode: 1 Status: ERROR CheckDir: DrugVsDisease.Rcheck Warnings: NA