Package: DropletUtils Version: 1.26.0 Command: /Library/Frameworks/R.framework/Resources/bin/R CMD INSTALL DropletUtils StartedAt: 2025-03-31 15:34:37 -0400 (Mon, 31 Mar 2025) EndedAt: 2025-03-31 15:36:49 -0400 (Mon, 31 Mar 2025) EllapsedTime: 132.2 seconds RetCode: 0 Status: OK