Package: DropletUtils Version: 1.26.0 Command: /Library/Frameworks/R.framework/Resources/bin/R CMD build --keep-empty-dirs --no-resave-data DropletUtils StartedAt: 2025-03-31 22:47:30 -0400 (Mon, 31 Mar 2025) EndedAt: 2025-03-31 22:48:57 -0400 (Mon, 31 Mar 2025) EllapsedTime: 86.8 seconds RetCode: 0 Status: OK PackageFile: DropletUtils_1.26.0.tar.gz PackageFileSize: 602.7 KiB