Package: Doscheda Version: 1.28.0 Command: /home/biocbuild/R/R/bin/R CMD INSTALL Doscheda StartedAt: 2025-03-31 21:00:45 -0000 (Mon, 31 Mar 2025) EndedAt: 2025-03-31 21:01:03 -0000 (Mon, 31 Mar 2025) EllapsedTime: 18.2 seconds RetCode: 0 Status: OK