Package: Doscheda Version: 1.28.0 Command: /home/biocbuild/R/R/bin/R CMD build --keep-empty-dirs --no-resave-data Doscheda StartedAt: 2025-03-31 23:10:16 -0000 (Mon, 31 Mar 2025) EndedAt: 2025-03-31 23:11:07 -0000 (Mon, 31 Mar 2025) EllapsedTime: 51.0 seconds RetCode: 0 Status: OK PackageFile: Doscheda_1.28.0.tar.gz PackageFileSize: 3.279 MiB