Package: Doscheda Version: 1.28.0 Command: chmod a+r Doscheda -R && F:\biocbuild\bbs-3.20-bioc\R\bin\R.exe CMD build --keep-empty-dirs --no-resave-data Doscheda StartedAt: 2025-03-31 18:34:54 -0400 (Mon, 31 Mar 2025) EndedAt: 2025-03-31 18:36:13 -0400 (Mon, 31 Mar 2025) EllapsedTime: 78.2 seconds RetCode: 0 Status: OK PackageFile: Doscheda_1.28.0.tar.gz PackageFileSize: 3.215 MiB