Package: Doscheda Version: 1.28.0 Command: /Library/Frameworks/R.framework/Resources/bin/R CMD INSTALL Doscheda StartedAt: 2025-03-31 17:37:59 -0400 (Mon, 31 Mar 2025) EndedAt: 2025-03-31 17:38:14 -0400 (Mon, 31 Mar 2025) EllapsedTime: 15.3 seconds RetCode: 0 Status: OK