Package: Doscheda Version: 1.28.0 Command: /Library/Frameworks/R.framework/Resources/bin/R CMD check --install=check:Doscheda.install-out.txt --library=/Library/Frameworks/R.framework/Resources/library --no-vignettes --timings Doscheda_1.28.0.tar.gz StartedAt: 2025-04-01 17:44:17 -0400 (Tue, 01 Apr 2025) EndedAt: 2025-04-01 17:47:39 -0400 (Tue, 01 Apr 2025) EllapsedTime: 201.9 seconds RetCode: 0 Status: OK CheckDir: Doscheda.Rcheck Warnings: 0