Package: DiscoRhythm Version: 1.22.0 Command: /home/biocbuild/R/R/bin/R CMD INSTALL DiscoRhythm StartedAt: 2025-03-31 21:11:21 -0000 (Mon, 31 Mar 2025) EndedAt: 2025-03-31 21:11:54 -0000 (Mon, 31 Mar 2025) EllapsedTime: 32.4 seconds RetCode: 0 Status: OK