Package: DiscoRhythm Version: 1.22.0 Command: /home/biocbuild/R/R/bin/R CMD build --keep-empty-dirs --no-resave-data DiscoRhythm StartedAt: 2025-03-31 23:07:23 -0000 (Mon, 31 Mar 2025) EndedAt: 2025-03-31 23:08:12 -0000 (Mon, 31 Mar 2025) EllapsedTime: 49.0 seconds RetCode: 0 Status: OK PackageFile: DiscoRhythm_1.22.0.tar.gz PackageFileSize: 2.614 MiB