Package: Director Version: 1.32.0 Command: /Library/Frameworks/R.framework/Resources/bin/R CMD check --install=check:Director.install-out.txt --library=/Library/Frameworks/R.framework/Resources/library --no-vignettes --timings Director_1.32.0.tar.gz StartedAt: 2025-04-01 17:30:09 -0400 (Tue, 01 Apr 2025) EndedAt: 2025-04-01 17:30:37 -0400 (Tue, 01 Apr 2025) EllapsedTime: 28.0 seconds RetCode: 0 Status: OK CheckDir: Director.Rcheck Warnings: 0