Package: Director Version: 1.32.0 Command: /Library/Frameworks/R.framework/Resources/bin/R CMD build --keep-empty-dirs --no-resave-data Director StartedAt: 2025-03-31 22:36:51 -0400 (Mon, 31 Mar 2025) EndedAt: 2025-03-31 22:37:07 -0400 (Mon, 31 Mar 2025) EllapsedTime: 15.7 seconds RetCode: 0 Status: OK PackageFile: Director_1.32.0.tar.gz PackageFileSize: 695 KiB