Package: Dino Version: 1.12.0 Command: /Library/Frameworks/R.framework/Resources/bin/R CMD check --install=check:Dino.install-out.txt --library=/Library/Frameworks/R.framework/Resources/library --no-vignettes --timings Dino_1.12.0.tar.gz StartedAt: 2025-04-01 17:27:18 -0400 (Tue, 01 Apr 2025) EndedAt: 2025-04-01 17:33:45 -0400 (Tue, 01 Apr 2025) EllapsedTime: 387.7 seconds RetCode: 0 Status: OK CheckDir: Dino.Rcheck Warnings: 0