Package: DifferentialRegulation Version: 2.4.0 Command: /home/biocbuild/R/R/bin/R CMD build --keep-empty-dirs --no-resave-data DifferentialRegulation StartedAt: 2025-03-31 23:05:47 -0000 (Mon, 31 Mar 2025) EndedAt: 2025-03-31 23:10:07 -0000 (Mon, 31 Mar 2025) EllapsedTime: 260.1 seconds RetCode: 0 Status: OK PackageFile: DifferentialRegulation_2.4.0.tar.gz PackageFileSize: 2.688 MiB