Package: DifferentialRegulation Version: 2.4.0 Command: /Library/Frameworks/R.framework/Resources/bin/R CMD INSTALL DifferentialRegulation StartedAt: 2025-03-31 15:44:02 -0400 (Mon, 31 Mar 2025) EndedAt: 2025-03-31 15:45:42 -0400 (Mon, 31 Mar 2025) EllapsedTime: 99.7 seconds RetCode: 0 Status: OK