Package: DepecheR Version: 1.22.0 Command: /Library/Frameworks/R.framework/Resources/bin/R CMD INSTALL DepecheR StartedAt: 2025-03-31 15:52:08 -0400 (Mon, 31 Mar 2025) EndedAt: 2025-03-31 15:53:04 -0400 (Mon, 31 Mar 2025) EllapsedTime: 55.9 seconds RetCode: 0 Status: OK