Package: DepecheR Version: 1.22.0 Command: /Library/Frameworks/R.framework/Resources/bin/R CMD build --keep-empty-dirs --no-resave-data DepecheR StartedAt: 2025-03-31 18:12:40 -0400 (Mon, 31 Mar 2025) EndedAt: 2025-03-31 18:14:26 -0400 (Mon, 31 Mar 2025) EllapsedTime: 106.1 seconds RetCode: 0 Status: OK PackageFile: DepecheR_1.22.0.tar.gz PackageFileSize: 2.561 MiB