Package: DepecheR Version: 1.22.0 Command: /Library/Frameworks/R.framework/Resources/bin/R CMD check --install=check:DepecheR.install-out.txt --library=/Library/Frameworks/R.framework/Resources/library --no-vignettes --timings DepecheR_1.22.0.tar.gz StartedAt: 2025-04-01 17:03:36 -0400 (Tue, 01 Apr 2025) EndedAt: 2025-04-01 17:05:42 -0400 (Tue, 01 Apr 2025) EllapsedTime: 125.7 seconds RetCode: 0 Status: OK CheckDir: DepecheR.Rcheck Warnings: 0