Package: DepInfeR Version: 1.10.0 Command: F:\biocbuild\bbs-3.20-bioc\R\bin\R.exe CMD check --no-multiarch --install=check:DepInfeR.install-out.txt --library=F:\biocbuild\bbs-3.20-bioc\R\library --no-vignettes --timings DepInfeR_1.10.0.tar.gz StartedAt: 2025-04-01 00:50:44 -0400 (Tue, 01 Apr 2025) EndedAt: 2025-04-01 00:52:37 -0400 (Tue, 01 Apr 2025) EllapsedTime: 112.9 seconds RetCode: 0 Status: OK CheckDir: DepInfeR.Rcheck Warnings: 0