Package: DelayedTensor Version: 1.12.0 Command: /Library/Frameworks/R.framework/Resources/bin/R CMD build --keep-empty-dirs --no-resave-data DelayedTensor StartedAt: 2025-03-31 18:10:39 -0400 (Mon, 31 Mar 2025) EndedAt: 2025-03-31 18:18:27 -0400 (Mon, 31 Mar 2025) EllapsedTime: 468.3 seconds RetCode: 0 Status: OK PackageFile: DelayedTensor_1.12.0.tar.gz PackageFileSize: 4.128 MiB