Package: DelayedRandomArray Version: 1.14.0 Command: rm -rf DelayedRandomArray.buildbin-libdir && mkdir DelayedRandomArray.buildbin-libdir && F:\biocbuild\bbs-3.20-bioc\R\bin\R.exe CMD INSTALL --build --library=DelayedRandomArray.buildbin-libdir DelayedRandomArray_1.14.0.tar.gz StartedAt: 2025-04-01 08:03:27 -0400 (Tue, 01 Apr 2025) EndedAt: 2025-04-01 08:06:46 -0400 (Tue, 01 Apr 2025) EllapsedTime: 199.0 seconds RetCode: 0 Status: OK PackageFile: DelayedRandomArray_1.14.0.zip PackageFileSize: 987.9 KiB