Package: DelayedArray Version: 0.32.0 Command: set _R_CHECK_CODETOOLS_PROFILE_='suppressFundefMismatch=TRUE'&& F:\biocbuild\bbs-3.20-bioc\R\bin\R.exe CMD check --no-multiarch --install=check:DelayedArray.install-out.txt --library=F:\biocbuild\bbs-3.20-bioc\R\library --no-vignettes --timings DelayedArray_0.32.0.tar.gz StartedAt: 2025-04-01 00:44:43 -0400 (Tue, 01 Apr 2025) EndedAt: 2025-04-01 01:18:32 -0400 (Tue, 01 Apr 2025) EllapsedTime: 2028.4 seconds RetCode: 0 Status: WARNINGS CheckDir: DelayedArray.Rcheck Warnings: 1