Package: DegNorm Version: 1.16.0 Command: /home/biocbuild/R/R/bin/R CMD INSTALL DegNorm StartedAt: 2025-03-31 21:01:57 -0000 (Mon, 31 Mar 2025) EndedAt: 2025-03-31 21:03:11 -0000 (Mon, 31 Mar 2025) EllapsedTime: 73.8 seconds RetCode: 0 Status: OK