Package: DegNorm Version: 1.16.0 Command: /home/biocbuild/R/R/bin/R CMD build --keep-empty-dirs --no-resave-data DegNorm StartedAt: 2025-03-31 22:58:40 -0000 (Mon, 31 Mar 2025) EndedAt: 2025-03-31 23:04:57 -0000 (Mon, 31 Mar 2025) EllapsedTime: 377.1 seconds RetCode: 0 Status: OK PackageFile: DegNorm_1.16.0.tar.gz PackageFileSize: 3.823 MiB