Package: DegNorm Version: 1.16.0 Command: rm -rf DegNorm.buildbin-libdir && mkdir DegNorm.buildbin-libdir && /Users/biocbuild/BBS/utils/build-universal.sh DegNorm_1.16.0.tar.gz /Library/Frameworks/R.framework/Resources/bin/R DegNorm.buildbin-libdir StartedAt: 2025-04-02 14:02:09 -0400 (Wed, 02 Apr 2025) EndedAt: 2025-04-02 14:03:14 -0400 (Wed, 02 Apr 2025) EllapsedTime: 64.4 seconds RetCode: 0 Status: OK PackageFile: DegNorm_1.16.0.tgz PackageFileSize: 3.245 MiB