Package: DegCre Version: 1.2.0 Command: /home/biocbuild/R/R/bin/R CMD INSTALL DegCre StartedAt: 2025-03-31 20:37:14 -0000 (Mon, 31 Mar 2025) EndedAt: 2025-03-31 20:38:06 -0000 (Mon, 31 Mar 2025) EllapsedTime: 51.4 seconds RetCode: 0 Status: OK