Package: DegCre Version: 1.2.0 Command: /home/biocbuild/bbs-3.20-bioc/R/bin/R CMD INSTALL DegCre StartedAt: 2025-03-31 15:30:06 -0400 (Mon, 31 Mar 2025) EndedAt: 2025-03-31 15:30:45 -0400 (Mon, 31 Mar 2025) EllapsedTime: 39.0 seconds RetCode: 0 Status: OK