Package: DegCre Version: 1.2.0 Command: /Library/Frameworks/R.framework/Resources/bin/R CMD check --install=check:DegCre.install-out.txt --library=/Library/Frameworks/R.framework/Resources/library --no-vignettes --timings DegCre_1.2.0.tar.gz StartedAt: 2025-04-01 16:48:30 -0400 (Tue, 01 Apr 2025) EndedAt: 2025-04-01 16:56:03 -0400 (Tue, 01 Apr 2025) EllapsedTime: 452.9 seconds RetCode: 1 Status: ERROR CheckDir: DegCre.Rcheck Warnings: NA