Package: DeepTarget Version: 1.0.0 Command: /Library/Frameworks/R.framework/Resources/bin/R CMD build --keep-empty-dirs --no-resave-data DeepTarget StartedAt: 2025-03-31 18:08:49 -0400 (Mon, 31 Mar 2025) EndedAt: 2025-03-31 18:10:23 -0400 (Mon, 31 Mar 2025) EllapsedTime: 94.1 seconds RetCode: 0 Status: OK PackageFile: DeepTarget_1.0.0.tar.gz PackageFileSize: 2.775 MiB