Package: DeepTarget Version: 1.0.0 Command: rm -rf DeepTarget.buildbin-libdir && mkdir DeepTarget.buildbin-libdir && /Users/biocbuild/BBS/utils/build-universal.sh DeepTarget_1.0.0.tar.gz /Library/Frameworks/R.framework/Resources/bin/R DeepTarget.buildbin-libdir StartedAt: 2025-04-01 11:43:57 -0400 (Tue, 01 Apr 2025) EndedAt: 2025-04-01 11:44:43 -0400 (Tue, 01 Apr 2025) EllapsedTime: 46.6 seconds RetCode: 0 Status: OK PackageFile: DeepTarget_1.0.0.tgz PackageFileSize: 2.816 MiB